Workbook

Sheet Sheet1
B1: SPAIN TOUR | C1: Rank Leg- 1+2 | D1: extra time | E1: overall sailing time | F1: (4d 00h 57m 40s) | H1: (1d 12h 44m 50s) | I1: (2d 12h 12m 50s) | J1: (2d 23h 55m 27s) | K1: (2d 17h 9m 56s) | M1: total sailing time | V1: Last update, local time; for GMT -7hr
A2: 0 | B2: Date – Month september | D2: difference with the leader in overall ranking | E2: -Total Sailing time:- days | hrs:min:sec | H2: Spain-leg1 hr:min:sec | I2: Spain-leg2 hr:min:sec | J2: Spain-leg3 hr:min:sec | K2: Spain-leg4 hr:min:sec | L2: Spain-Total hr:min:sec | M2: day | N2: hr:min:sec | P2: check=0 | Q2: hrs | R2: min | S2: sec | V2: 14/07/2013 16:30:24 | W2: Finish time
A3: 1 | B3: Jimbeam CM | D3: #REF! | E3: 4 | F3: 0.19747685 | H3: 1.612581 | I3: 2.5848958 | J3: 0 | K3: #REF! | L3: 4.1974769 | M3: 4 | N3: 0.19747685 | P3: 0 | Q3: 4 | R3: 44 | S3: 22 | V3: #N/A | W3: #N/A
A4: 2 | B4: D.J. | D4: #REF! | E4: 4 | F4: 0.20219907 | H4: 1.6208681 | I4: 2.581331 | J4: 0 | K4: #REF! | L4: 4.2021991 | M4: 4 | N4: 0.20219907 | P4: 0 | Q4: 4 | R4: 51 | S4: 10 | V4: #N/A | W4: #N/A
A5: 3 | B5: With Integrity CM | D5: #REF! | E5: 4 | F5: 0.28011574 | H5: 1.6031481 | I5: 2.6769676 | J5: 0 | K5: #REF! | L5: 4.2801157 | M5: 4 | N5: 0.28011574 | P5: 0 | Q5: 6 | R5: 43 | S5: 22 | V5: #N/A | W5: #N/A
A6: 4 | B6: Suratna | D6: #REF! | E6: 4 | F6: 0.40165509 | H6: 1.6246065 | I6: 2.7770486 | J6: 0 | K6: #REF! | L6: 4.4016551 | M6: 4 | N6: 0.40165509 | P6: 0 | Q6: 9 | R6: 38 | S6: 23 | V6: #N/A | W6: #N/A
A7: 5 | B7: GolfAiguillons82 | D7: #REF! | E7: 4 | F7: 0.40905093 | H7: 1.6320486 | I7: 2.7770023 | J7: 0 | K7: #REF! | L7: 4.4090509 | M7: 4 | N7: 0.40905093 | P7: 0 | Q7: 9 | R7: 49 | S7: 2 | V7: #N/A | W7: #N/A
A8: 6 | B8: Kingfisher 829 | D8: #REF! | E8: 4 | F8: 0.41461806 | H8: 1.6855324 | I8: 2.7290856 | J8: 0 | K8: #REF! | L8: 4.4146181 | M8: 4 | N8: 0.41461806 | P8: 0 | Q8: 9 | R8: 57 | S8: 3 | V8: #N/A | W8: #N/A
A9: 7 | B9: vanna | E9: 4 | F9: 0.4853588 | H9: 1.5516088 | I9: 2.93375 | J9: 0 | K9: 0 | L9: 4.4853588 | M9: 4 | N9: 0.4853588 | P9: 0 | Q9: 11 | R9: 38 | S9: 55 | V9: #N/A | W9: #N/A
A10: 8 | B10: Puskapor[HUN] CM | D10: #REF! | E10: 4 | F10: 0.57454861 | H10: 1.6301852 | I10: 2.9443634 | J10: 0 | K10: #REF! | L10: 4.5745486 | M10: 4 | N10: 0.57454861 | P10: 0 | Q10: 13 | R10: 47 | S10: 21 | V10: #N/A | W10: #N/A
A11: 9 | B11: dalmato | D11: #REF! | E11: 4 | F11: 0.60783565 | H11: 1.6829861 | I11: 2.9248495 | J11: 0 | K11: #REF! | L11: 4.6078356 | M11: 4 | N11: 0.60783565 | P11: 0 | Q11: 14 | R11: 35 | S11: 17 | V11: #N/A | W11: #N/A
A12: 10 | B12: Dilolo | D12: #REF! | E12: 4 | F12: 0.66751157 | H12: 1.7077315 | I12: 2.9597801 | J12: 0 | K12: #REF! | L12: 4.6675116 | M12: 4 | N12: 0.66751157 | P12: 0 | Q12: 16 | R12: 1 | S12: 13 | V12: #N/A | W12: #N/A
A13: 11 | B13: Marineri | D13: #REF! | E13: 4 | F13: 0.6849537 | H13: 1.6491088 | I13: 3.0358449 | J13: 0 | K13: #REF! | L13: 4.6849537 | M13: 4 | N13: 0.6849537 | P13: 0 | Q13: 16 | R13: 26 | S13: 20 | V13: #N/A | W13: #N/A
A14: 12 | B14: BZHyale69 | D14: #REF! | E14: 4 | F14: 0.76232639 | H14: 1.8612963 | I14: 2.9010301 | J14: 0 | K14: #REF! | L14: 4.7623264 | M14: 4 | N14: 0.76232639 | P14: 0 | Q14: 18 | R14: 17 | S14: 45 | V14: #N/A | W14: #N/A
A15: 13 | B15: Avatar | D15: #REF! | E15: 4 | F15: 0.77340278 | H15: 1.7308218 | I15: 3.042581 | J15: 0 | K15: #REF! | L15: 4.7734028 | M15: 4 | N15: 0.77340278 | P15: 0 | Q15: 18 | R15: 33 | S15: 42 | V15: #N/A | W15: #N/A
A16: 14 | B16: Ocean Flea | D16: #REF! | E16: #REF! | F16: #REF! | H16: 1.9402431 | I16: #REF! | L16: #REF! | M16: #REF! | N16: #REF! | P16: #REF! | Q16: #REF! | R16: #REF! | S16: #REF! | V16: #N/A | W16: #N/A
A17: 15 | B17: Turtle Speed | D17: #REF! | E17: 4 | F17: 0.84798611 | H17: 1.6940741 | I17: 3.153912 | J17: 0 | K17: #REF! | L17: 4.8479861 | M17: 4 | N17: 0.84798611 | P17: 0 | Q17: 20 | R17: 21 | S17: 6 | V17: #N/A | W17: #N/A
A18: 16 | B18: Hallberg | D18: #REF! | E18: 4 | F18: 0.9971412 | H18: 2.0728472 | I18: 2.924294 | J18: 0 | K18: #REF! | L18: 4.9971412 | M18: 4 | N18: 0.9971412 | P18: 0 | Q18: 23 | R18: 55 | S18: 53 | V18: #N/A | W18: #N/A
A19: 17 | B19: Tsunami | D19: #REF! | E19: 5 | F19: 0.052662037 | H19: 2.3813889 | I19: 2.6712731 | J19: 0 | K19: #REF! | L19: 5.052662 | M19: 5 | N19: 0.052662037 | P19: 0 | Q19: 1 | R19: 15 | S19: 50 | V19: #N/A | W19: #N/A
A20: 18 | B20: Sunshine1 | D20: #REF! | E20: #REF! | F20: #REF! | H20: 1.8508912 | I20: #REF! | L20: #REF! | M20: #REF! | N20: #REF! | P20: #REF! | Q20: #REF! | R20: #REF! | S20: #REF! | V20: #N/A | W20: #N/A
A21: 19 | B21: misterqu | D21: #REF! | E21: #REF! | F21: #REF! | H21: 2.0648495 | I21: #REF! | L21: #REF! | M21: #REF! | N21: #REF! | P21: #REF! | Q21: #REF! | R21: #REF! | S21: #REF! | V21: #N/A | W21: #N/A
A22: 20 | B22: BZHCyrille | D22: #REF! | E22: 5 | F22: 0.29458333 | H22: 2.4976042 | I22: 2.7969792 | J22: 0 | K22: #REF! | L22: 5.2945833 | M22: 5 | N22: 0.29458333 | P22: 0 | Q22: 7 | R22: 4 | S22: 12 | V22: #N/A | W22: #N/A
A23: 21 | B23: bequia | D23: #REF! | E23: 5 | F23: 0.3930787 | H23: 2.5444792 | I23: 2.8485995 | J23: 0 | K23: #REF! | L23: 5.3930787 | M23: 5 | N23: 0.3930787 | P23: 0 | Q23: 9 | R23: 26 | S23: 2 | V23: #N/A | W23: #N/A
A24: 22 | B24: Smoke14 | D24: #REF! | E24: #REF! | F24: #REF! | H24: 2.1534375 | I24: #REF! | L24: #REF! | M24: #REF! | N24: #REF! | P24: #REF! | Q24: #REF! | R24: #REF! | S24: #REF! | V24: #N/A | W24: #N/A
A25: 23 | B25: Tobogee | D25: #REF! | E25: 5 | F25: 0.69825231 | H25: 2.600162 | I25: 3.0980903 | J25: 0 | K25: #REF! | L25: 5.6982523 | M25: 5 | N25: 0.69825231 | P25: 0 | Q25: 16 | R25: 45 | S25: 29 | V25: #N/A | W25: #N/A
A26: 24 | B26: juusi | D26: #REF! | E26: 5 | F26: 0.76287037 | H26: 2.1856713 | I26: 3.5771991 | J26: 0 | K26: #REF! | L26: 5.7628704 | M26: 5 | N26: 0.76287037 | P26: 0 | Q26: 18 | R26: 18 | S26: 32 | V26: #N/A | W26: #N/A
A27: 25 | B27: Wetterwille | D27: #REF! | E27: #REF! | F27: #REF! | H27: 3.8601736 | I27: #REF! | L27: #REF! | M27: #REF! | N27: #REF! | P27: #REF! | Q27: #REF! | R27: #REF! | S27: #REF! | V27: #N/A | W27: #N/A
A28: 26 | B28: eazy | D28: #REF! | E28: #REF! | F28: #REF! | H28: 4.7231713 | I28: #REF! | L28: #REF! | M28: #REF! | N28: #REF! | P28: #REF! | Q28: #REF! | R28: #REF! | S28: #REF! | V28: #N/A | W28: #N/A
B29: jonny m | D29: #REF! | H29: 1.7006597 | I29: DNS | J29: 0 | K29: #REF! | V29: #N/A | W29: #N/A
B30: loco tibenou | D30: #REF!
B31: DeZeta | D31: #REF!
B32: jamaica | D32: #REF!
B33: Mutley192 | D33: #REF!
B34: JONI | D34: #REF!
B35: Merou44 | D35: #REF!
B36: Ekranoplan CM | D36: #REF!
B37: BillynoMates_SA | D37: #REF!
B38: Marimbaba | D38: #REF!
B39: Fat Duck | D39: #REF!
V42: -- | W42: --
...

Sheet Sheet2
B1: SPAIN TOUR | C1: Rank Leg- 1+2 | D1: extra time | E1: overall sailing time | F1: (4d 00h 57m 40s) | H1: (1d 12h 44m 50s) | I1: (2d 12h 12m 50s) | J1: (2d 23h 55m 27s) | K1: (2d 17h 9m 56s) | M1: total sailing time | V1: Last update, local time; for GMT -7hr
A2: 0 | B2: Date – Month september | D2: difference with the leader in overall ranking | E2: -Total Sailing time:- days | hrs:min:sec | H2: Spain-leg1 hr:min:sec | I2: Spain-leg2 hr:min:sec | J2: Spain-leg3 hr:min:sec | K2: Spain-leg4 hr:min:sec | L2: Spain-Total hr:min:sec | M2: day | N2: hr:min:sec | P2: check=0 | Q2: hrs | R2: min | S2: sec | V2: 14/07/2013 16:30:24 | W2: Finish time
A3: 1 | B3: Jimbeam CM | D3: #REF! | E3: 4 | F3: =N3 -> 0.19747685 | H3: 1.612581 | I3: 2.5848958 | J3: 0 | K3: #REF! | L3: 4.1974769 | M3: 4 | N3: 0.19747685 | P3: 0 | Q3: 4 | R3: 44 | S3: 22 | V3: #N/A | W3: #N/A
A4: 2 | B4: D.J. | D4: #REF! | E4: 4 | F4: 0.20219907 | H4: 1.6208681 | I4: 2.581331 | J4: 0 | K4: #REF! | L4: 4.2021991 | M4: 4 | N4: 0.20219907 | P4: 0 | Q4: 4 | R4: 51 | S4: 10 | V4: #N/A | W4: #N/A
A5: 3 | B5: With Integrity CM | D5: #REF! | E5: 4 | F5: 0.28011574 | H5: 1.6031481 | I5: 2.6769676 | J5: 0 | K5: #REF! | L5: 4.2801157 | M5: 4 | N5: 0.28011574 | P5: 0 | Q5: 6 | R5: 43 | S5: 22 | V5: #N/A | W5: #N/A
A6: 4 | B6: Suratna | D6: #REF! | E6: 4 | F6: 0.40165509 | H6: 1.6246065 | I6: 2.7770486 | J6: 0 | K6: #REF! | L6: 4.4016551 | M6: 4 | N6: 0.40165509 | P6: 0 | Q6: 9 | R6: 38 | S6: 23 | V6: #N/A | W6: #N/A
A7: 5 | B7: GolfAiguillons82 | D7: #REF! | E7: 4 | F7: 0.40905093 | H7: 1.6320486 | I7: 2.7770023 | J7: 0 | K7: #REF! | L7: 4.4090509 | M7: 4 | N7: 0.40905093 | P7: 0 | Q7: 9 | R7: 49 | S7: 2 | V7: #N/A | W7: #N/A
A8: 6 | B8: Kingfisher 829 | D8: #REF! | E8: 4 | F8: 0.41461806 | H8: 1.6855324 | I8: 2.7290856 | J8: 0 | K8: #REF! | L8: 4.4146181 | M8: 4 | N8: 0.41461806 | P8: 0 | Q8: 9 | R8: 57 | S8: 3 | V8: #N/A | W8: #N/A
A9: 7 | B9: vanna | E9: 4 | F9: 0.4853588 | H9: 1.5516088 | I9: 2.93375 | J9: 0 | K9: 0 | L9: 4.4853588 | M9: 4 | N9: 0.4853588 | P9: 0 | Q9: 11 | R9: 38 | S9: 55 | V9: #N/A | W9: #N/A
A10: 8 | B10: Puskapor[HUN] CM | D10: #REF! | E10: 4 | F10: 0.57454861 | H10: 1.6301852 | I10: 2.9443634 | J10: 0 | K10: #REF! | L10: 4.5745486 | M10: 4 | N10: 0.57454861 | P10: 0 | Q10: 13 | R10: 47 | S10: 21 | V10: #N/A | W10: #N/A
A11: 9 | B11: dalmato | D11: #REF! | E11: 4 | F11: 0.60783565 | H11: 1.6829861 | I11: 2.9248495 | J11: 0 | K11: #REF! | L11: 4.6078356 | M11: 4 | N11: 0.60783565 | P11: 0 | Q11: 14 | R11: 35 | S11: 17 | V11: #N/A | W11: #N/A
A12: 10 | B12: Dilolo | D12: #REF! | E12: 4 | F12: 0.66751157 | H12: 1.7077315 | I12: 2.9597801 | J12: 0 | K12: #REF! | L12: 4.6675116 | M12: 4 | N12: 0.66751157 | P12: 0 | Q12: 16 | R12: 1 | S12: 13 | V12: #N/A | W12: #N/A
A13: 11 | B13: Marineri | D13: #REF! | E13: 4 | F13: 0.6849537 | H13: 1.6491088 | I13: 3.0358449 | J13: 0 | K13: #REF! | L13: 4.6849537 | M13: 4 | N13: 0.6849537 | P13: 0 | Q13: 16 | R13: 26 | S13: 20 | V13: #N/A | W13: #N/A
A14: 12 | B14: BZHyale69 | D14: #REF! | E14: 4 | F14: 0.76232639 | H14: 1.8612963 | I14: 2.9010301 | J14: 0 | K14: #REF! | L14: 4.7623264 | M14: 4 | N14: 0.76232639 | P14: 0 | Q14: 18 | R14: 17 | S14: 45 | V14: #N/A | W14: #N/A
A15: 13 | B15: Avatar | D15: #REF! | E15: 4 | F15: 0.77340278 | H15: 1.7308218 | I15: 3.042581 | J15: 0 | K15: #REF! | L15: 4.7734028 | M15: 4 | N15: 0.77340278 | P15: 0 | Q15: 18 | R15: 33 | S15: 42 | V15: #N/A | W15: #N/A
A16: 14 | B16: Ocean Flea | D16: #REF! | E16: #REF! | F16: #REF! | H16: 1.9402431 | I16: #REF! | L16: #REF! | M16: #REF! | N16: #REF! | P16: #REF! | Q16: #REF! | R16: #REF! | S16: #REF! | V16: #N/A | W16: #N/A
A17: 15 | B17: Turtle Speed | D17: #REF! | E17: 4 | F17: 0.84798611 | H17: 1.6940741 | I17: 3.153912 | J17: 0 | K17: #REF! | L17: 4.8479861 | M17: 4 | N17: 0.84798611 | P17: 0 | Q17: 20 | R17: 21 | S17: 6 | V17: #N/A | W17: #N/A
A18: 16 | B18: Hallberg | D18: #REF! | E18: 4 | F18: 0.9971412 | H18: 2.0728472 | I18: 2.924294 | J18: 0 | K18: #REF! | L18: 4.9971412 | M18: 4 | N18: 0.9971412 | P18: 0 | Q18: 23 | R18: 55 | S18: 53 | V18: #N/A | W18: #N/A
A19: 17 | B19: Tsunami | D19: #REF! | E19: 5 | F19: 0.052662037 | H19: 2.3813889 | I19: 2.6712731 | J19: 0 | K19: #REF! | L19: 5.052662 | M19: 5 | N19: 0.052662037 | P19: 0 | Q19: 1 | R19: 15 | S19: 50 | V19: #N/A | W19: #N/A
A20: 18 | B20: Sunshine1 | D20: #REF! | E20: #REF! | F20: #REF! | H20: 1.8508912 | I20: #REF! | L20: #REF! | M20: #REF! | N20: #REF! | P20: #REF! | Q20: #REF! | R20: #REF! | S20: #REF! | V20: #N/A | W20: #N/A
A21: 19 | B21: misterqu | D21: #REF! | E21: #REF! | F21: #REF! | H21: 2.0648495 | I21: #REF! | L21: #REF! | M21: #REF! | N21: #REF! | P21: #REF! | Q21: #REF! | R21: #REF! | S21: #REF! | V21: #N/A | W21: #N/A
A22: 20 | B22: BZHCyrille | D22: #REF! | E22: 5 | F22: 0.29458333 | H22: 2.4976042 | I22: 2.7969792 | J22: 0 | K22: #REF! | L22: 5.2945833 | M22: 5 | N22: 0.29458333 | P22: 0 | Q22: 7 | R22: 4 | S22: 12 | V22: #N/A | W22: #N/A
A23: 21 | B23: bequia | D23: #REF! | E23: 5 | F23: 0.3930787 | H23: 2.5444792 | I23: 2.8485995 | J23: 0 | K23: #REF! | L23: 5.3930787 | M23: 5 | N23: 0.3930787 | P23: 0 | Q23: 9 | R23: 26 | S23: 2 | V23: #N/A | W23: #N/A
A24: 22 | B24: Smoke14 | D24: #REF! | E24: #REF! | F24: #REF! | H24: 2.1534375 | I24: #REF! | L24: #REF! | M24: #REF! | N24: #REF! | P24: #REF! | Q24: #REF! | R24: #REF! | S24: #REF! | V24: #N/A | W24: #N/A
A25: 23 | B25: Tobogee | D25: #REF! | E25: 5 | F25: 0.69825231 | H25: 2.600162 | I25: 3.0980903 | J25: 0 | K25: #REF! | L25: 5.6982523 | M25: 5 | N25: 0.69825231 | P25: 0 | Q25: 16 | R25: 45 | S25: 29 | V25: #N/A | W25: #N/A
A26: 24 | B26: juusi | D26: #REF! | E26: 5 | F26: 0.76287037 | H26: 2.1856713 | I26: 3.5771991 | J26: 0 | K26: #REF! | L26: 5.7628704 | M26: 5 | N26: 0.76287037 | P26: 0 | Q26: 18 | R26: 18 | S26: 32 | V26: #N/A | W26: #N/A
A27: 25 | B27: Wetterwille | D27: #REF! | E27: #REF! | F27: #REF! | H27: 3.8601736 | I27: #REF! | L27: #REF! | M27: #REF! | N27: #REF! | P27: #REF! | Q27: #REF! | R27: #REF! | S27: #REF! | V27: #N/A | W27: #N/A
A28: 26 | B28: eazy | D28: #REF! | E28: #REF! | F28: #REF! | H28: 4.7231713 | I28: #REF! | L28: #REF! | M28: #REF! | N28: #REF! | P28: #REF! | Q28: #REF! | R28: #REF! | S28: #REF! | V28: #N/A | W28: #N/A
B29: jonny m | D29: #REF! | H29: 1.7006597 | I29: DNS | J29: 0 | K29: #REF! | V29: #N/A | W29: #N/A
B30: loco tibenou | D30: #REF!
B31: DeZeta | D31: #REF!
B32: jamaica | D32: #REF!
B33: Mutley192 | D33: #REF!
B34: JONI | D34: #REF!
B35: Merou44 | D35: #REF!
B36: Ekranoplan CM | D36: #REF!
B37: BillynoMates_SA | D37: #REF!
B38: Marimbaba | D38: #REF!
B39: Fat Duck | D39: #REF!
V42: -- | W42: --
...

Sheet Summary
B1: SYC Championship | D1: Boat | E1: SYC Member | F1: Total Position Time Time | G1: Time after Leader | H1: Total Time Sailed Rank Race 1+2+3 | I1: Race1 hr:min:sec | J1: Race3 hr:min:sec | K1: Race3 hr:min:sec | L1: Rank Points | M1: Total Position Points | N1: Race1 Finish | O1: Race2 Finish | P1: Race3 Finish
B2: Sailonline Yacht Club Memberrafa | C2: Yes | D2: rafa | E2: =IF(C2="Yes","Yes","No") -> Yes | F2: 1 | G2: =H2-$H$2 -> 0 | H2: =SUMIF(I2:K2,"<>#N/A") -> 120.32 | I2: =VLOOKUP(B2,Race1!B:I,8,FALSE) -> 46.475556 | J2: =VLOOKUP(B2,Race2!B:I,8,FALSE) -> 26.516389 | K2: =VLOOKUP(B2,Race3!B:I,8,FALSE) -> 47.328056 | L2: 1 | M2: =SUMIF(N2:P2,"<>#N/A") -> 13 | N2: =VLOOKUP(B2,Race1!B:G,6,FALSE) -> 3 | O2: =VLOOKUP(B2,Race2!B:G,6,FALSE) -> 5 | P2: =VLOOKUP(B2,Race3!B:G,6,FALSE) -> 5
B3: Sailonline Yacht Club MemberEquinox | C3: Yes | D3: Equinox | E3: =IF(C3="Yes","Yes","No") -> Yes | F3: 3 | G3: =H3-$H$2 -> 0.28611111 | H3: =SUMIF(I3:K3,"<>#N/A") -> 120.60611 | I3: =VLOOKUP(B3,Race1!B:I,8,FALSE) -> 46.666667 | J3: =VLOOKUP(B3,Race2!B:I,8,FALSE) -> 26.496667 | K3: =VLOOKUP(B3,Race3!B:I,8,FALSE) -> 47.442778 | L3: 2 | M3: =SUMIF(N3:P3,"<>#N/A") -> 23 | N3: =VLOOKUP(B3,Race1!B:G,6,FALSE) -> 8 | O3: =VLOOKUP(B3,Race2!B:G,6,FALSE) -> 2 | P3: =VLOOKUP(B3,Race3!B:G,6,FALSE) -> 13
B4: Sailonline Yacht Club MemberSCARABOCCHIO | C4: Yes | D4: SCARABOCCHIO | E4: =IF(C4="Yes","Yes","No") -> Yes | F4: 2 | G4: =H4-$H$2 -> 0.27138889 | H4: =SUMIF(I4:K4,"<>#N/A") -> 120.59139 | I4: =VLOOKUP(B4,Race1!B:I,8,FALSE) -> 46.579444 | J4: =VLOOKUP(B4,Race2!B:I,8,FALSE) -> 26.701667 | K4: =VLOOKUP(B4,Race3!B:I,8,FALSE) -> 47.310278 | L4: 3 | M4: =SUMIF(N4:P4,"<>#N/A") -> 25 | N4: =VLOOKUP(B4,Race1!B:G,6,FALSE) -> 6 | O4: =VLOOKUP(B4,Race2!B:G,6,FALSE) -> 17 | P4: =VLOOKUP(B4,Race3!B:G,6,FALSE) -> 2
B5: Sailonline Yacht Club MemberSarahWilson | C5: Yes | D5: SarahWilson | E5: =IF(C5="Yes","Yes","No") -> Yes | F5: 4 | G5: =H5-$H$2 -> 0.54833333 | H5: =SUMIF(I5:K5,"<>#N/A") -> 120.86833 | I5: =VLOOKUP(B5,Race1!B:I,8,FALSE) -> 46.903889 | J5: =VLOOKUP(B5,Race2!B:I,8,FALSE) -> 26.6225 | K5: =VLOOKUP(B5,Race3!B:I,8,FALSE) -> 47.341944 | L5: 4 | M5: =SUMIF(N5:P5,"<>#N/A") -> 34 | N5: =VLOOKUP(B5,Race1!B:G,6,FALSE) -> 13 | O5: =VLOOKUP(B5,Race2!B:G,6,FALSE) -> 14 | P5: =VLOOKUP(B5,Race3!B:G,6,FALSE) -> 7
B6: Sailonline Yacht Club MemberTyger_JUB | C6: Yes | D6: Tyger_JUB | E6: =IF(C6="Yes","Yes","No") -> Yes | F6: 5 | G6: =H6-$H$2 -> 0.62055556 | H6: =SUMIF(I6:K6,"<>#N/A") -> 120.94056 | I6: =VLOOKUP(B6,Race1!B:I,8,FALSE) -> 46.751111 | J6: =VLOOKUP(B6,Race2!B:I,8,FALSE) -> 26.578889 | K6: =VLOOKUP(B6,Race3!B:I,8,FALSE) -> 47.610556 | L6: 5 | M6: =SUMIF(N6:P6,"<>#N/A") -> 39 | N6: =VLOOKUP(B6,Race1!B:G,6,FALSE) -> 10 | O6: =VLOOKUP(B6,Race2!B:G,6,FALSE) -> 9 | P6: =VLOOKUP(B6,Race3!B:G,6,FALSE) -> 20
B7: Sailonline Yacht Club MemberNeuroman | C7: Yes | D7: Neuroman | E7: =IF(C7="Yes","Yes","No") -> Yes | F7: 6 | G7: =H7-$H$2 -> 1.5244444 | H7: =SUMIF(I7:K7,"<>#N/A") -> 121.84444 | I7: =VLOOKUP(B7,Race1!B:I,8,FALSE) -> 46.477778 | J7: =VLOOKUP(B7,Race2!B:I,8,FALSE) -> 27.772778 | K7: =VLOOKUP(B7,Race3!B:I,8,FALSE) -> 47.593889 | L7: 6 | M7: =SUMIF(N7:P7,"<>#N/A") -> 66 | N7: =VLOOKUP(B7,Race1!B:G,6,FALSE) -> 4 | O7: =VLOOKUP(B7,Race2!B:G,6,FALSE) -> 43 | P7: =VLOOKUP(B7,Race3!B:G,6,FALSE) -> 19
B8: Sailonline Yacht Club Membersassy63 | C8: Yes | D8: sassy63 | E8: =IF(C8="Yes","Yes","No") -> Yes | F8: 10 | G8: =H8-$H$2 -> 2.6125 | H8: =SUMIF(I8:K8,"<>#N/A") -> 122.9325 | I8: =VLOOKUP(B8,Race1!B:I,8,FALSE) -> 46.464167 | J8: =VLOOKUP(B8,Race2!B:I,8,FALSE) -> 26.611111 | K8: =VLOOKUP(B8,Race3!B:I,8,FALSE) -> 49.857222 | L8: 7 | M8: =SUMIF(N8:P8,"<>#N/A") -> 83 | N8: =VLOOKUP(B8,Race1!B:G,6,FALSE) -> 2 | O8: =VLOOKUP(B8,Race2!B:G,6,FALSE) -> 11 | P8: =VLOOKUP(B8,Race3!B:G,6,FALSE) -> 70
B9: Sailonline Yacht Club Membercaptjack1942 | C9: Yes | D9: captjack1942 | E9: =IF(C9="Yes","Yes","No") -> Yes | F9: 8 | G9: =H9-$H$2 -> 2.4352778 | H9: =SUMIF(I9:K9,"<>#N/A") -> 122.75528 | I9: =VLOOKUP(B9,Race1!B:I,8,FALSE) -> 46.822222 | J9: =VLOOKUP(B9,Race2!B:I,8,FALSE) -> 27.346944 | K9: =VLOOKUP(B9,Race3!B:I,8,FALSE) -> 48.586111 | L9: 8 | M9: =SUMIF(N9:P9,"<>#N/A") -> 87 | N9: =VLOOKUP(B9,Race1!B:G,6,FALSE) -> 11 | O9: =VLOOKUP(B9,Race2!B:G,6,FALSE) -> 34 | P9: =VLOOKUP(B9,Race3!B:G,6,FALSE) -> 42
B10: Sailonline Yacht Club MemberDana1 | C10: Yes | D10: Dana1 | E10: =IF(C10="Yes","Yes","No") -> Yes | F10: 7 | G10: =H10-$H$2 -> 2.3147222 | H10: =SUMIF(I10:K10,"<>#N/A") -> 122.63472 | I10: =VLOOKUP(B10,Race1!B:I,8,FALSE) -> 47.069167 | J10: =VLOOKUP(B10,Race2!B:I,8,FALSE) -> 27.286667 | K10: =VLOOKUP(B10,Race3!B:I,8,FALSE) -> 48.278889 | L10: 9 | M10: =SUMIF(N10:P10,"<>#N/A") -> 88 | N10: =VLOOKUP(B10,Race1!B:G,6,FALSE) -> 17 | O10: =VLOOKUP(B10,Race2!B:G,6,FALSE) -> 33 | P10: =VLOOKUP(B10,Race3!B:G,6,FALSE) -> 38
B11: Sailonline Yacht Club MemberSKOVSER | C11: Yes | D11: SKOVSER | E11: =IF(C11="Yes","Yes","No") -> Yes | F11: 9 | G11: =H11-$H$2 -> 2.5413889 | H11: =SUMIF(I11:K11,"<>#N/A") -> 122.86139 | I11: =VLOOKUP(B11,Race1!B:I,8,FALSE) -> 46.7375 | J11: =VLOOKUP(B11,Race2!B:I,8,FALSE) -> 27.014167 | K11: =VLOOKUP(B11,Race3!B:I,8,FALSE) -> 49.109722 | L11: 10 | M11: =SUMIF(N11:P11,"<>#N/A") -> 92 | N11: =VLOOKUP(B11,Race1!B:G,6,FALSE) -> 9 | O11: =VLOOKUP(B11,Race2!B:G,6,FALSE) -> 30 | P11: =VLOOKUP(B11,Race3!B:G,6,FALSE) -> 53
B12: Sailonline Yacht Club MemberJakeS | C12: Yes | D12: JakeS | E12: =IF(C12="Yes","Yes","No") -> Yes | F12: 11 | G12: =H12-$H$2 -> 3.7402778 | H12: =SUMIF(I12:K12,"<>#N/A") -> 124.06028 | I12: =VLOOKUP(B12,Race1!B:I,8,FALSE) -> 47.116944 | J12: =VLOOKUP(B12,Race2!B:I,8,FALSE) -> 29.1 | K12: =VLOOKUP(B12,Race3!B:I,8,FALSE) -> 47.843333 | L12: 11 | M12: =SUMIF(N12:P12,"<>#N/A") -> 105 | N12: =VLOOKUP(B12,Race1!B:G,6,FALSE) -> 18 | O12: =VLOOKUP(B12,Race2!B:G,6,FALSE) -> 57 | P12: =VLOOKUP(B12,Race3!B:G,6,FALSE) -> 30
B13: Sailonline Yacht Club MemberVarmint | C13: Yes | D13: Varmint | E13: =IF(C13="Yes","Yes","No") -> Yes | F13: 12 | G13: =H13-$H$2 -> 3.9011111 | H13: =SUMIF(I13:K13,"<>#N/A") -> 124.22111 | I13: =VLOOKUP(B13,Race1!B:I,8,FALSE) -> 47.7075 | J13: =VLOOKUP(B13,Race2!B:I,8,FALSE) -> 28.884167 | K13: =VLOOKUP(B13,Race3!B:I,8,FALSE) -> 47.629444 | L13: 12 | M13: =SUMIF(N13:P13,"<>#N/A") -> 109 | N13: =VLOOKUP(B13,Race1!B:G,6,FALSE) -> 37 | O13: =VLOOKUP(B13,Race2!B:G,6,FALSE) -> 51 | P13: =VLOOKUP(B13,Race3!B:G,6,FALSE) -> 21
... B51: ClogDancer | C51: ClogDancer | D51: ClogDancer | E51: =IF(C51="Yes","Yes","No") -> No | F51: 50 | G51: =H51-$H$2 -> 70.465 | H51: =SUMIF(I51:K51,"<>#N/A") -> 190.785 | I51: =VLOOKUP(B51,Race1!B:I,8,FALSE) -> 75.195278 | J51: =VLOOKUP(B51,Race2!B:I,8,FALSE) -> 39.248889 | K51: =VLOOKUP(B51,Race3!B:I,8,FALSE) -> 76.340833 | L51: 50 | M51: =SUMIF(N51:P51,"<>#N/A") -> 356 | N51: =VLOOKUP(B51,Race1!B:G,6,FALSE) -> 117 | O51: =VLOOKUP(B51,Race2!B:G,6,FALSE) -> 107 | P51: =VLOOKUP(B51,Race3!B:G,6,FALSE) -> 132

Sheet Race1
A1: 584 | B1: SOL's Baltic Island Race 2013 | F1: Finish Time | G1: =A1 -> 584 | H1: Start Time | I1: Time Sailed in hours
A4: 1 | B4: Sailonline Yacht Club MemberWINSTON_4 | C4: Steinlager 2 | D4: 0 | E4: 0 | F4: 41457.309 | G4: 1 | H4: 41455.375 | I4: =(F4-H4)*24 -> 46.413611
A5: 2 | B5: Sailonline Yacht Club Membersassy63 | C5: Steinlager 2 | D5: 0 | E5: 0 | F5: 41457.311 | G5: =IF(D5=0,G4+1,"DNF") -> 2 | H5: 41455.375 | I5: =(F5-H5)*24 -> 46.464167
A6: 3 | B6: Sailonline Yacht Club Memberrafa | C6: Steinlager 2 | D6: 0 | E6: 0 | F6: 41457.311 | G6: =IF(D6=0,G5+1,"DNF") -> 3 | H6: 41455.375 | I6: =(F6-H6)*24 -> 46.475556
A7: 4 | B7: Sailonline Yacht Club MemberNeuroman | C7: Steinlager 2 | D7: 0 | E7: 0 | F7: 41457.312 | G7: =IF(D7=0,G6+1,"DNF") -> 4 | H7: 41455.375 | I7: =(F7-H7)*24 -> 46.477778
A8: 5 | B8: Sailonline Yacht Club Membertejo | C8: Steinlager 2 | D8: 0 | E8: 0 | F8: 41457.312 | G8: =IF(D8=0,G7+1,"DNF") -> 5 | H8: 41455.375 | I8: =(F8-H8)*24 -> 46.4925
A9: 6 | B9: Sailonline Yacht Club MemberSCARABOCCHIO | C9: Steinlager 2 | D9: 0 | E9: 0 | F9: 41457.316 | G9: =IF(D9=0,G8+1,"DNF") -> 6 | H9: 41455.375 | I9: =(F9-H9)*24 -> 46.579444
A10: 7 | B10: Sailonline Yacht Club MemberRICOTINA | C10: Steinlager 2 | D10: 0 | E10: 0 | F10: 41457.317 | G10: =IF(D10=0,G9+1,"DNF") -> 7 | H10: 41455.375 | I10: =(F10-H10)*24 -> 46.604444
A11: 8 | B11: Sailonline Yacht Club MemberEquinox | C11: Steinlager 2 | D11: 0 | E11: 0 | F11: 41457.319 | G11: =IF(D11=0,G10+1,"DNF") -> 8 | H11: 41455.375 | I11: =(F11-H11)*24 -> 46.666667
A12: 9 | B12: Sailonline Yacht Club MemberSKOVSER | C12: Steinlager 2 | D12: 0 | E12: 0 | F12: 41457.322 | G12: =IF(D12=0,G11+1,"DNF") -> 9 | H12: 41455.375 | I12: =(F12-H12)*24 -> 46.7375
A13: 10 | B13: Sailonline Yacht Club MemberTyger_JUB | C13: Steinlager 2 | D13: 0 | E13: 0 | F13: 41457.323 | G13: =IF(D13=0,G12+1,"DNF") -> 10 | H13: 41455.375 | I13: =(F13-H13)*24 -> 46.751111
A14: 11 | B14: Sailonline Yacht Club Membercaptjack1942 | C14: Steinlager 2 | D14: 0 | E14: 0 | F14: 41457.326 | G14: =IF(D14=0,G13+1,"DNF") -> 11 | H14: 41455.375 | I14: =(F14-H14)*24 -> 46.822222
A15: 12 | B15: Sailonline Yacht Club MemberRideTheWind99 | C15: Steinlager 2 | D15: 0 | E15: 0 | F15: 41457.328 | G15: =IF(D15=0,G14+1,"DNF") -> 12 | H15: 41455.375 | I15: =(F15-H15)*24 -> 46.870556
A16: 13 | B16: Sailonline Yacht Club MemberSarahWilson | C16: Steinlager 2 | D16: 0 | E16: 0 | F16: 41457.329 | G16: =IF(D16=0,G15+1,"DNF") -> 13 | H16: 41455.375 | I16: =(F16-H16)*24 -> 46.903889
... A123: 120 | B123: Anjana | C123: Steinlager 2 | D123: 0 | E123: 0 | F123: 41458.676 | G123: =IF(D123=0,G122+1,"DNF") -> 120 | H123: 41455.375 | I123: =(F123-H123)*24 -> 79.218333
A124: 121 | B124: Gaijin | C124: Steinlager 2 | D124: 0.4 | E124: 0.4 | G124: =IF(D124=0,G123+1,"DNF") -> DNF | H124: 41455.375 | I124: 0
A125: 122 | B125: DannyAlvis | C125: Steinlager 2 | D125: 0.4 | E125: 0.6 | G125: =IF(D125=0,G124+1,"DNF") -> DNF | H125: 41455.375 | I125: 0
A126: 123 | B126: ericlamontre | C126: Steinlager 2 | D126: 3.6 | E126: 3.6 | G126: =IF(D126=0,G125+1,"DNF") -> DNF | H126: 41455.375 | I126: 0
A127: 124 | B127: Sailonline Yacht Club Memberzero | C127: Steinlager 2 | D127: 3.9 | E127: 3.9 | G127: =IF(D127=0,G126+1,"DNF") -> DNF | H127: 41455.375 | I127: 0
A128: 125 | B128: AndersXIV | C128: Steinlager 2 | D128: 14.3 | E128: 14.3 | G128: =IF(D128=0,G127+1,"DNF") -> DNF | H128: 41455.375 | I128: 0
A129: 126 | B129: Sailonline Yacht Club Memberdoduche | C129: Steinlager 2 | D129: 17.8 | E129: 17.8 | G129: =IF(D129=0,G128+1,"DNF") -> DNF | H129: 41455.375 | I129: 0
A130: 127 | B130: felixthecat | C130: Steinlager 2 | D130: 18.4 | E130: 18.4 | G130: =IF(D130=0,G129+1,"DNF") -> DNF | H130: 41455.375 | I130: 0
A131: 128 | B131: Sailonline Yacht Club MemberSimbad | C131: Steinlager 2 | D131: 21.8 | E131: 21.8 | G131: =IF(D131=0,G130+1,"DNF") -> DNF | H131: 41455.375 | I131: 0
A132: 129 | B132: spray | C132: Steinlager 2 | D132: 68.8 | E132: 68.7 | G132: =IF(D132=0,G131+1,"DNF") -> DNF | H132: 41455.375 | I132: 0
A133: 130 | B133: sliding | C133: Steinlager 2 | D133: 87 | E133: 87.1 | G133: =IF(D133=0,G132+1,"DNF") -> DNF | H133: 41455.375 | I133: 0
A134: 131 | B134: samb81 | C134: Steinlager 2 | D134: 95.2 | E134: 95.3 | G134: =IF(D134=0,G133+1,"DNF") -> DNF | H134: 41455.375 | I134: 0
A135: 132 | B135: Sailonline Yacht Club Memberxthyra | C135: Steinlager 2 | D135: 98.5 | E135: 98.5 | G135: =IF(D135=0,G134+1,"DNF") -> DNF | H135: 41455.375 | I135: 0
... A220: 217 | B220: comocean | C220: Steinlager 2 | D220: 588 | E220: 588 | G220: =IF(D220=0,G219+1,"DNF") -> DNF | H220: 41455.375 | I220: 0

Sheet Race2
A1: 583 | B1: Kieler Woche Silver Band 2013 | F1: Finish Time | G1: =A1 -> 583 | H1: Start Time | I1: Time Sailed in hours
A4: 1 | B4: Sailonline Yacht Club Membertejo | C4: J-80 | D4: 0 | E4: 0 | F4: 41453.791 | G4: 1 | H4: 41452.688 | I4: =(F4-H4)*24 -> 26.493611
A5: 2 | B5: Sailonline Yacht Club MemberEquinox | C5: J-80 | D5: 0 | E5: 0 | F5: 41453.792 | G5: =IF(D5=0,G4+1,"DNF") -> 2 | H5: 41452.688 | I5: =(F5-H5)*24 -> 26.496667
A6: 3 | B6: Sailonline Yacht Club Memberhew565 | C6: J-80 | D6: 0 | E6: 0 | F6: 41453.792 | G6: =IF(D6=0,G5+1,"DNF") -> 3 | H6: 41452.688 | I6: =(F6-H6)*24 -> 26.510278
A7: 4 | B7: Sailonline Yacht Club MemberGnT | C7: J-80 | D7: 0 | E7: 0 | F7: 41453.792 | G7: =IF(D7=0,G6+1,"DNF") -> 4 | H7: 41452.688 | I7: =(F7-H7)*24 -> 26.515
A8: 5 | B8: Sailonline Yacht Club Memberrafa | C8: J-80 | D8: 0 | E8: 0 | F8: 41453.792 | G8: =IF(D8=0,G7+1,"DNF") -> 5 | H8: 41452.688 | I8: =(F8-H8)*24 -> 26.516389
A9: 6 | B9: recalada | C9: J-80 | D9: 0 | E9: 0 | F9: 41453.793 | G9: =IF(D9=0,G8+1,"DNF") -> 6 | H9: 41452.688 | I9: =(F9-H9)*24 -> 26.523611
A10: 7 | B10: Sailonline Yacht Club MemberStIngFI | C10: J-80 | D10: 0 | E10: 0 | F10: 41453.794 | G10: =IF(D10=0,G9+1,"DNF") -> 7 | H10: 41452.688 | I10: =(F10-H10)*24 -> 26.563056
A11: 8 | B11: Sailonline Yacht Club Membermaritronco | C11: J-80 | D11: 0 | E11: 0 | F11: 41453.794 | G11: =IF(D11=0,G10+1,"DNF") -> 8 | H11: 41452.688 | I11: =(F11-H11)*24 -> 26.566111
A12: 9 | B12: Sailonline Yacht Club MemberTyger_JUB | C12: J-80 | D12: 0 | E12: 0 | F12: 41453.795 | G12: =IF(D12=0,G11+1,"DNF") -> 9 | H12: 41452.688 | I12: =(F12-H12)*24 -> 26.578889
A13: 10 | B13: PantelisA | C13: J-80 | D13: 0 | E13: 0 | F13: 41453.796 | G13: =IF(D13=0,G12+1,"DNF") -> 10 | H13: 41452.688 | I13: =(F13-H13)*24 -> 26.596111
A14: 11 | B14: Sailonline Yacht Club Membersassy63 | C14: J-80 | D14: 0 | E14: 0 | F14: 41453.796 | G14: =IF(D14=0,G13+1,"DNF") -> 11 | H14: 41452.688 | I14: =(F14-H14)*24 -> 26.611111
A15: 12 | B15: Sailonline Yacht Club MemberLunch | C15: J-80 | D15: 0 | E15: 0 | F15: 41453.796 | G15: =IF(D15=0,G14+1,"DNF") -> 12 | H15: 41452.688 | I15: =(F15-H15)*24 -> 26.613056
A16: 13 | B16: Sailonline Yacht Club MemberGo4iT | C16: J-80 | D16: 0 | E16: 0 | F16: 41453.797 | G16: =IF(D16=0,G15+1,"DNF") -> 13 | H16: 41452.688 | I16: =(F16-H16)*24 -> 26.618889
... A129: 126 | B129: ericlamontre | C129: J-80 | D129: 0 | E129: 0 | F129: 41455.461 | G129: =IF(D129=0,G128+1,"DNF") -> 126 | H129: 41452.688 | I129: =(F129-H129)*24 -> 66.554722
A130: 127 | B130: rssailtexas | C130: J-80 | D130: 2 | E130: 2 | G130: =IF(D130=0,G129+1,"DNF") -> DNF | H130: 41452.688 | I130: 0
A131: 128 | B131: cdennyb | C131: J-80 | D131: 13.3 | E131: 13.4 | G131: =IF(D131=0,G130+1,"DNF") -> DNF | H131: 41452.688 | I131: 0
A132: 129 | B132: Sailonline Yacht Club Membersadlersailing_JUB | C132: J-80 | D132: 26.2 | E132: 26.3 | G132: =IF(D132=0,G131+1,"DNF") -> DNF | H132: 41452.688 | I132: 0
A133: 130 | B133: outcast | C133: J-80 | D133: 36.5 | E133: 36.5 | G133: =IF(D133=0,G132+1,"DNF") -> DNF | H133: 41452.688 | I133: 0
A134: 131 | B134: TENERIFE | C134: J-80 | D134: 36.7 | E134: 36.7 | G134: =IF(D134=0,G133+1,"DNF") -> DNF | H134: 41452.688 | I134: 0
A135: 132 | B135: Sailonline Yacht Club Memberseawat | C135: J-80 | D135: 39.1 | E135: 39.1 | G135: =IF(D135=0,G134+1,"DNF") -> DNF | H135: 41452.688 | I135: 0
A136: 133 | B136: slager | C136: J-80 | D136: 42.6 | E136: 42.8 | G136: =IF(D136=0,G135+1,"DNF") -> DNF | H136: 41452.688 | I136: 0
A137: 134 | B137: Dolfin | C137: J-80 | D137: 49.5 | E137: 49.5 | G137: =IF(D137=0,G136+1,"DNF") -> DNF | H137: 41452.688 | I137: 0
A138: 135 | B138: ricos0 | C138: J-80 | D138: 53.5 | E138: 53.5 | G138: =IF(D138=0,G137+1,"DNF") -> DNF | H138: 41452.688 | I138: 0
A139: 136 | B139: comocean | C139: J-80 | D139: 53.6 | E139: 53.6 | G139: =IF(D139=0,G138+1,"DNF") -> DNF | H139: 41452.688 | I139: 0
A140: 137 | B140: Sailonline Yacht Club MemberXinanhook | C140: J-80 | D140: 53.6 | E140: 53.6 | G140: =IF(D140=0,G139+1,"DNF") -> DNF | H140: 41452.688 | I140: 0
A141: 138 | B141: Mrbill | C141: J-80 | D141: 54.1 | E141: 54.1 | G141: =IF(D141=0,G140+1,"DNF") -> DNF | H141: 41452.688 | I141: 0
... A182: 179 | B182: NED_Arthur | C182: J-80 | D182: 149 | E182: 149 | G182: =IF(D182=0,G181+1,"DNF") -> DNF | H182: 41452.688 | I182: 0
A183: 180 | B183: 73 | C183: J-80 | D183: 149.1 | E183: 149.1 | G183: =IF(D183=0,G182+1,"DNF") -> DNF | H183: 41452.688 | I183: 0
A184: 181 | B184: androm | C184: J-80 | D184: 153 | E184: 153 | G184: =IF(D184=0,G183+1,"DNF") -> DNF | H184: 41452.688 | I184: 0
A185: 182 | B185: Sailonline Yacht Club Memberfestinalente | C185: J-80 | D185: 153.3 | E185: 153.3 | G185: =IF(D185=0,G184+1,"DNF") -> DNF | H185: 41452.688 | I185: 0
A186: 183 | B186: Sailonline Yacht Club MemberAnchoilla | C186: J-80 | D186: 153.3 | E186: 153.3 | G186: =IF(D186=0,G185+1,"DNF") -> DNF | H186: 41452.688 | I186: 0
A187: 184 | B187: Sailonline Yacht Club MemberTarco | C187: J-80 | D187: 153.3 | E187: 153.3 | G187: =IF(D187=0,G186+1,"DNF") -> DNF | H187: 41452.688 | I187: 0
A188: 185 | B188: jay8s | C188: J-80 | D188: 153.3 | E188: 153.3 | G188: =IF(D188=0,G187+1,"DNF") -> DNF | H188: 41452.688 | I188: 0
A189: 186 | B189: blueskwal | C189: J-80 | D189: 153.3 | E189: 153.3 | G189: =IF(D189=0,G188+1,"DNF") -> DNF | H189: 41452.688 | I189: 0
A190: 187 | B190: buncha | C190: J-80 | D190: 153.3 | E190: 153.3 | G190: =IF(D190=0,G189+1,"DNF") -> DNF | H190: 41452.688 | I190: 0
A191: 188 | B191: Sailonline Yacht Club Memberguest | C191: J-80 | D191: 153.3 | E191: 153.3 | G191: =IF(D191=0,G190+1,"DNF") -> DNF | H191: 41452.688 | I191: 0
A192: 189 | B192: Yardbird | C192: J-80 | D192: 153.3 | E192: 153.3 | G192: =IF(D192=0,G191+1,"DNF") -> DNF | H192: 41452.688 | I192: 0
A193: 190 | B193: Rigbone97 | C193: J-80 | D193: 153.3 | E193: 153.3 | G193: =IF(D193=0,G192+1,"DNF") -> DNF | H193: 41452.688 | I193: 0
A194: 191 | B194: Sailonline Yacht Club MemberNZL_Reg | C194: J-80 | D194: 153.3 | E194: 153.3 | G194: =IF(D194=0,G193+1,"DNF") -> DNF | H194: 41452.688 | I194: 0
...

Sheet Race3
A1: 575 | B1: Jubilant Race 2 | H1: Start Time | I1: Time Sailed in hours
A4: 1 | B4: outlaw | C4: Jubilant | D4: 0 | E4: 0 | F4: 41421.324 | G4: =IF(D4=0,G3+1,"DNF") -> 1 | H4: 41419.354 | I4: =(F4-H4)*24 -> 47.274722
A5: 2 | B5: Sailonline Yacht Club MemberSCARABOCCHIO | C5: Jubilant | D5: 0 | E5: 0 | F5: 41421.325 | G5: =IF(D5=0,G4+1,"DNF") -> 2 | H5: 41419.354 | I5: =(F5-H5)*24 -> 47.310278
A6: 3 | B6: Sailonline Yacht Club MemberNZL_Scotsman | C6: Jubilant | D6: 0 | E6: 0 | F6: 41421.326 | G6: =IF(D6=0,G5+1,"DNF") -> 3 | H6: 41419.354 | I6: =(F6-H6)*24 -> 47.313611
A7: 4 | B7: Sailonline Yacht Club MemberKarmaFish | C7: Jubilant | D7: 0 | E7: 0 | F7: 41421.326 | G7: =IF(D7=0,G6+1,"DNF") -> 4 | H7: 41419.354 | I7: =(F7-H7)*24 -> 47.3175
A8: 5 | B8: Sailonline Yacht Club Memberrafa | C8: Jubilant | D8: 0 | E8: 0 | F8: 41421.326 | G8: =IF(D8=0,G7+1,"DNF") -> 5 | H8: 41419.354 | I8: =(F8-H8)*24 -> 47.328056
A9: 6 | B9: Kz | C9: Jubilant | D9: 0 | E9: 0 | F9: 41421.326 | G9: =IF(D9=0,G8+1,"DNF") -> 6 | H9: 41419.354 | I9: =(F9-H9)*24 -> 47.333889
A10: 7 | B10: Sailonline Yacht Club MemberSarahWilson | C10: Jubilant | D10: 0 | E10: 0 | F10: 41421.327 | G10: =IF(D10=0,G9+1,"DNF") -> 7 | H10: 41419.354 | I10: =(F10-H10)*24 -> 47.341944
A11: 8 | B11: Sailonline Yacht Club MemberGnT | C11: Jubilant | D11: 0 | E11: 0 | F11: 41421.327 | G11: =IF(D11=0,G10+1,"DNF") -> 8 | H11: 41419.354 | I11: =(F11-H11)*24 -> 47.353611
A12: 9 | B12: Sailonline Yacht Club Memberelbetico | C12: Jubilant | D12: 0 | E12: 0 | F12: 41421.327 | G12: =IF(D12=0,G11+1,"DNF") -> 9 | H12: 41419.354 | I12: =(F12-H12)*24 -> 47.356111
A13: 10 | B13: Sailonline Yacht Club Memberrumskib | C13: Jubilant | D13: 0 | E13: 0 | F13: 41421.327 | G13: =IF(D13=0,G12+1,"DNF") -> 10 | H13: 41419.354 | I13: =(F13-H13)*24 -> 47.359444
A14: 11 | B14: Sailonline Yacht Club MemberRICOTINA | C14: Jubilant | D14: 0 | E14: 0 | F14: 41421.329 | G14: =IF(D14=0,G13+1,"DNF") -> 11 | H14: 41419.354 | I14: =(F14-H14)*24 -> 47.385
A15: 12 | B15: recalada | C15: Jubilant | D15: 0 | E15: 0 | F15: 41421.329 | G15: =IF(D15=0,G14+1,"DNF") -> 12 | H15: 41419.354 | I15: =(F15-H15)*24 -> 47.385278
... A139: 136 | B139: spray | C139: Jubilant | D139: 0 | E139: 0 | F139: 41422.747 | G139: =IF(D139=0,G138+1,"DNF") -> 136 | H139: 41419.354 | I139: =(F139-H139)*24 -> 81.433889
A140: 137 | B140: ostra | C140: Jubilant | D140: 12.7 | E140: 12.7 | G140: =IF(D140=0,G139+1,"DNF") -> DNF | I140: 0
A141: 138 | B141: Sailonline Yacht Club Memberhawah | C141: Jubilant | D141: 14.5 | E141: 14.5 | G141: =IF(D141=0,G140+1,"DNF") -> DNF | I141: 0
A142: 139 | B142: doramuss | C142: Jubilant | D142: 14.4 | E142: 14.5 | G142: =IF(D142=0,G141+1,"DNF") -> DNF | I142: 0
A143: 140 | B143: Smo | C143: Jubilant | D143: 15.6 | E143: 15.6 | G143: =IF(D143=0,G142+1,"DNF") -> DNF | I143: 0
A144: 141 | B144: KikoPR | C144: Jubilant | D144: 21.5 | E144: 21.5 | G144: =IF(D144=0,G143+1,"DNF") -> DNF | I144: 0
A145: 142 | B145: Pelusi | C145: Jubilant | D145: 27.9 | E145: 27.9 | G145: =IF(D145=0,G144+1,"DNF") -> DNF | I145: 0
A146: 143 | B146: mojo | C146: Jubilant | D146: 27.9 | E146: 27.9 | G146: =IF(D146=0,G145+1,"DNF") -> DNF | I146: 0
A147: 144 | B147: lucasson | C147: Jubilant | D147: 27.9 | E147: 27.9 | G147: =IF(D147=0,G146+1,"DNF") -> DNF | I147: 0
A148: 145 | B148: comocean | C148: Jubilant | D148: 46.4 | E148: 46.4 | G148: =IF(D148=0,G147+1,"DNF") -> DNF | I148: 0
A149: 146 | B149: NZL_Bobis | C149: Jubilant | D149: 47.5 | E149: 47.6 | G149: =IF(D149=0,G148+1,"DNF") -> DNF | I149: 0
A150: 147 | B150: Sailonline Yacht Club Memberseawat | C150: Jubilant | D150: 48.8 | E150: 48.9 | G150: =IF(D150=0,G149+1,"DNF") -> DNF | I150: 0
A151: 148 | B151: Sailonline Yacht Club MemberBlackpearl | C151: Jubilant | D151: 65.7 | E151: 65.7 | G151: =IF(D151=0,G150+1,"DNF") -> DNF | I151: 0
... A239: 236 | B239: Sailonline Yacht Club MemberJuJu_JUB | C239: Jubilant | D239: 322.5 | E239: 322.5 | G239: =IF(D239=0,G238+1,"DNF") -> DNF | I239: 0

Sheet Sheet8
